BEGIN:VCALENDAR
VERSION:2.0
PRODID:-//Burkardus Wohnpark - ECPv6.15.20//NONSGML v1.0//EN
CALSCALE:GREGORIAN
METHOD:PUBLISH
X-ORIGINAL-URL:https://www.burkardus-wohnpark.de
X-WR-CALDESC:Veranstaltungen für Burkardus Wohnpark
REFRESH-INTERVAL;VALUE=DURATION:PT1H
X-Robots-Tag:noindex
X-PUBLISHED-TTL:PT1H
BEGIN:VTIMEZONE
TZID:Europe/Berlin
BEGIN:DAYLIGHT
TZOFFSETFROM:+0100
TZOFFSETTO:+0200
TZNAME:CEST
DTSTART:20230326T010000
END:DAYLIGHT
BEGIN:STANDARD
TZOFFSETFROM:+0200
TZOFFSETTO:+0100
TZNAME:CET
DTSTART:20231029T010000
END:STANDARD
BEGIN:DAYLIGHT
TZOFFSETFROM:+0100
TZOFFSETTO:+0200
TZNAME:CEST
DTSTART:20240331T010000
END:DAYLIGHT
BEGIN:STANDARD
TZOFFSETFROM:+0200
TZOFFSETTO:+0100
TZNAME:CET
DTSTART:20241027T010000
END:STANDARD
BEGIN:DAYLIGHT
TZOFFSETFROM:+0100
TZOFFSETTO:+0200
TZNAME:CEST
DTSTART:20250330T010000
END:DAYLIGHT
BEGIN:STANDARD
TZOFFSETFROM:+0200
TZOFFSETTO:+0100
TZNAME:CET
DTSTART:20251026T010000
END:STANDARD
END:VTIMEZONE
BEGIN:VEVENT
DTSTART;TZID=Europe/Berlin:20241202T143000
DTEND;TZID=Europe/Berlin:20241202T170000
DTSTAMP:20260423T125619
CREATED:20231214T121610Z
LAST-MODIFIED:20240430T141908Z
UID:2445-1733149800-1733158800@www.burkardus-wohnpark.de
SUMMARY:Tanzcafé
DESCRIPTION:An jedem 1. und 3. Montagnachmittag des Monats spielt der bekannte Musiker und Alleinunterhalter Peter Roth für Sie in unserem Café. \nTanzen Sie gerne? Dann ist diese Veranstaltung genau das richtige für Sie! \nAber auch\, wenn Sie nicht tanzen\, sondern nur den beschwingten Weisen zuhören möchten\, sind Sie herzlich willkommen. \nDer Eintritt ist frei.\nDie Veranstaltung endet gegen 17.00 Uhr.\nWeitere Infos unter Tel.: 0971 / 7237-0 (Rezeption)
URL:https://www.burkardus-wohnpark.de/event/tanzcafe-23/
LOCATION:Burkardus Wohnpark\, Kapellenstr. 24\, Bad Kissingen\, Bayern\, 97688\, Deutschland
ATTACH;FMTTYPE=image/jpeg:https://www.burkardus-wohnpark.de/wp-content/uploads/2023/11/Homepage_TANZCAFE.jpg
END:VEVENT
BEGIN:VEVENT
DTSTART;TZID=Europe/Berlin:20241212T190000
DTEND;TZID=Europe/Berlin:20241212T220000
DTSTAMP:20260423T125619
CREATED:20240624T103135Z
LAST-MODIFIED:20240624T105641Z
UID:3237-1734030000-1734040800@www.burkardus-wohnpark.de
SUMMARY:"Flut & Fret"
DESCRIPTION:Donnerstag\, 12. Dezember\, 19.00 Uhr (Einlass 18.00 Uhr) im Wintergarten \n„Flute & Fret“\nEine musikalische Reise von der klassisch-romantischen Zeit über südamerikanische Klänge bis hin zur Folkmusik Irlands und Schottlands \n„Flute & Fret“\, auf Deutsch also „Flöte und Bund“. Gemeint ist hier der Bund von Gitarren oder ähnlichen Saiteninstrumenten – und auf diesen Instrumenten ist Carlo Hilsdorf (der an diesem Abend verschiedene Gitarren und die Bouzouki spielen wird) ein Meister\, das hat er bei anderen Gelegenheiten bei uns im Wintergarten bereits eindrucksvoll unter Beweis gestellt. Yvonne Reitelbach (Querflöte/Whistle) und Hilsdorf arbeiten nicht nur seit 20 Jahren als Instrumentallehrkräfte an der städtischen Musikschule in Bad Kissingen\, sondern sie musizieren auch seit vielen Jahren gemeinsam. \nFür ihr Programm „Flute & Fret“ schöpfen sie aus ihrem umfangreichen Repertoire und spannen einen weiten Bogen mit Werken aus der klassisch-romantischen Blütezeit\, über südamerikanische Klänge bis hin zur Folkmusik Irlands und Schottlands. \nDer Eintritt ist frei. Getränkeverkauf vor dem Konzert und in der Pause an der Theke im Wintergarten.\nWir freuen uns sehr auf den Auftritt von Yvonne Reitelbach und Carlo Hilsdorf bei uns!
URL:https://www.burkardus-wohnpark.de/event/flut-fret/
LOCATION:Burkardus Wohnpark\, Kapellenstr. 24\, Bad Kissingen\, Bayern\, 97688\, Deutschland
ATTACH;FMTTYPE=image/jpeg:https://www.burkardus-wohnpark.de/wp-content/uploads/2024/06/PXL_20240502_105754358.PORTRAIT.ORIGINAL_5.jpg
END:VEVENT
BEGIN:VEVENT
DTSTART;TZID=Europe/Berlin:20241216T143000
DTEND;TZID=Europe/Berlin:20241216T170000
DTSTAMP:20260423T125619
CREATED:20231214T121644Z
LAST-MODIFIED:20240430T134415Z
UID:2448-1734359400-1734368400@www.burkardus-wohnpark.de
SUMMARY:Tanzcafé
DESCRIPTION:An jedem 1. und 3. Montagnachmittag des Monats spielt der bekannte Musiker und Alleinunterhalter Peter Roth für Sie in unserem Café. \nTanzen Sie gerne? Dann ist diese Veranstaltung genau das richtige für Sie! \nAber auch\, wenn Sie nicht tanzen\, sondern nur den beschwingten Weisen zuhören möchten\, sind Sie herzlich willkommen. \nDer Eintritt ist frei.\nDie Veranstaltung endet gegen 17.00 Uhr.\nWeitere Infos unter Tel.: 0971 / 7237-0 (Rezeption)
URL:https://www.burkardus-wohnpark.de/event/tanzcafe-24/
LOCATION:Burkardus Wohnpark\, Kapellenstr. 24\, Bad Kissingen\, Bayern\, 97688\, Deutschland
ATTACH;FMTTYPE=image/jpeg:https://www.burkardus-wohnpark.de/wp-content/uploads/2023/11/Homepage_TANZCAFE.jpg
END:VEVENT
END:VCALENDAR